BEGIN:VCALENDAR
VERSION:2.0
PRODID:-//League of Professional Theatre Women - ECPv4.2.7//NONSGML v1.0//EN
CALSCALE:GREGORIAN
METHOD:PUBLISH
X-WR-CALNAME:League of Professional Theatre Women
X-ORIGINAL-URL:http://archive.theatrewomen.org
X-WR-CALDESC:Events for League of Professional Theatre Women
BEGIN:VEVENT
DTSTART;TZID=America/New_York:20190514T160000
DTEND;TZID=America/New_York:20190514T173000
DTSTAMP:20260420T043546
CREATED:20190507T013835
LAST-MODIFIED:20190507T013835
UID:13038-1557849600-1557855000@archive.theatrewomen.org
SUMMARY:LPTW Theatre Connections: Atlantic Theater Company
DESCRIPTION:Atlantic Theater Company\nAdministrative Office & Rehearsal Space\n76 Ninth Avenue\, Suite 537\nInside of the Google Building\n(Between West 15th & 16th Streets)\n\nCLICK HERE TO REGISTER\n\nDeadline: Register by Thursday\, May 9th\n\n\nTheatre Connections is a program designed to help our members build bridges and gain insights into the active producing organizations that generously collaborate in this project with a positive\, forward-looking agenda.\n\nLPTW members will meet with the leadership of the Atlantic Theater Company to learn first-hand about opportunities and partnerships in working with the organization. Members from the Atlantic team will include the Artistic Director\, Managing Director\, General Manager\, Director of the Education and Acting School Program\, Director of New Play Development and Associate Artistic Director. The panel will be followed by a Q&A session moderated by LPTW Co-VP of Communications\, Malini Singh McDonald.\n\nRegistration is on a first-come\, first-served basis.\n\nOnly 50 may participate AND must RSVP. Registrants will be asked to complete a short survey to focus the discussion. There will be a waitlist after the first 50 spots are filled.\n\nQuestions? Please contact:\nAdmin@TheatreWomen.org\n\n
URL:http://archive.theatrewomen.org/event/lptw-theatre-connections-atlantic-theater-company/
LOCATION:76 Ninth Avenue\, Suite 537\, New York\, NY\, United States
CATEGORIES:Networking
ATTACH;FMTTYPE=image/jpeg:http://archive.theatrewomen.org/wp-content/uploads/2019/05/ps_atlantictheater_02.jpg
END:VEVENT
END:VCALENDAR