BEGIN:VCALENDAR
VERSION:2.0
PRODID:-//League of Professional Theatre Women - ECPv4.2.7//NONSGML v1.0//EN
CALSCALE:GREGORIAN
METHOD:PUBLISH
X-WR-CALNAME:League of Professional Theatre Women
X-ORIGINAL-URL:http://archive.theatrewomen.org
X-WR-CALDESC:Events for League of Professional Theatre Women
BEGIN:VEVENT
DTSTART;TZID=America/New_York:20150928T180000
DTEND;TZID=America/New_York:20150928T200000
DTSTAMP:20260419T204949
CREATED:20150825T170733
LAST-MODIFIED:20150909T143246
UID:4252-1443463200-1443470400@archive.theatrewomen.org
SUMMARY:LPTW Season Launch!
DESCRIPTION:Kick Off the '15-'16 Season with LPTW at \nThe Players!\n\nCome share with us how the League \nis helping to make this happen\nand participating at every level.\n \nWe hope you will join us--\ncatch up with old friends\, make new ones\,\nand find out how you can get as involved as you want to be with ongoing committees and upcoming activities.\n \nMonday\, September 28\n6 p.m.-8 p.m.\nThe Players\n16 Gramercy Park South\n \nCash Bar\nPLEASE R.S.V.P: \nprograms@theatrewomen.org
URL:http://archive.theatrewomen.org/event/lptw-season-launch/
LOCATION:New York\, United States
ATTACH;FMTTYPE=image/jpeg:http://archive.theatrewomen.org/wp-content/uploads/2015/08/lptwboardminglecrop.jpg
END:VEVENT
END:VCALENDAR