BEGIN:VCALENDAR
VERSION:2.0
PRODID:-//League of Professional Theatre Women - ECPv4.2.7//NONSGML v1.0//EN
CALSCALE:GREGORIAN
METHOD:PUBLISH
X-WR-CALNAME:League of Professional Theatre Women
X-ORIGINAL-URL:http://archive.theatrewomen.org
X-WR-CALDESC:Events for League of Professional Theatre Women
BEGIN:VEVENT
DTSTART;TZID=America/New_York:20190115T180000
DTEND;TZID=America/New_York:20190115T200000
DTSTAMP:20260420T072638
CREATED:20181207T162908
LAST-MODIFIED:20181207T183402
UID:12137-1547575200-1547582400@archive.theatrewomen.org
SUMMARY:LPTW Playwrights Circle
DESCRIPTION:Tuesday\, January 15th\n6PM\n\n780 West End Avenue\, Unit 6C\n Entrance on West 98th Street \nCorner of West End Avenue\n\nWHAT TO BRING: Just yourselves\, but if you wish\, bring finger-food snacks and/or beverages including wine.\n\nPOSSIBLE TOPIC OF DISCUSSION:\nHow in this age of gender fluidity\, do you determine the gender of your characters? Is the pressure to be "relevant" an oppressive hindrance to creativity?\n\nFor this meeting please bring the first page of your script (after the title and character listing)\n\nFeel free to make suggestions for our agenda (we tend be loose)!\n\nRSVP: Fengar@aol.com
URL:http://archive.theatrewomen.org/event/lptw-playwrights-circle/
LOCATION:780 West End Ave\, #6\, New York\, NY\, 10025\, United States
ATTACH;FMTTYPE=image/jpeg:http://archive.theatrewomen.org/wp-content/uploads/2018/12/playwrights-circle.jpg
ORGANIZER;CN="":MAILTO:fengar@aol.com
END:VEVENT
END:VCALENDAR