BEGIN:VCALENDAR
VERSION:2.0
PRODID:-//League of Professional Theatre Women - ECPv4.2.7//NONSGML v1.0//EN
CALSCALE:GREGORIAN
METHOD:PUBLISH
X-WR-CALNAME:League of Professional Theatre Women
X-ORIGINAL-URL:http://archive.theatrewomen.org
X-WR-CALDESC:Events for League of Professional Theatre Women
BEGIN:VEVENT
DTSTART;TZID=America/New_York:20160111T180000
DTEND;TZID=America/New_York:20160111T200000
DTSTAMP:20260419T131946
CREATED:20151221T220201
LAST-MODIFIED:20160122T232439
UID:4628-1452535200-1452542400@archive.theatrewomen.org
SUMMARY:LPTW Networking Salon: Looking Forward!
DESCRIPTION:\n\n\nThe League of Professional Theatre Women's Networking Committee-Salon Series rang in the New Year on Monday\, January 11th with drinks\, snacks and excellent conversation!  The event was held at Pranna Lounge from 6-9pm.\n\n\n\n\nCostume Designer\, Cat Fisher charming the room!\n\n\n\n\nPresident Carmel Owen chatting with board member Mari Lyn Henry\n\n\n\nThe Networking Committee's Frances McGarry with Member Noemi Schlosser\n\n\n\nThe Networking Committee's Joan Kane and Frances McGarry recruiting some interested and potential new members!\n\n\n\n\n\n\n
URL:http://archive.theatrewomen.org/event/lptw-networking-salon-looking-forward-january-11-2016/
LOCATION:79 Madison Avenue\, New York\, NY\, 10016\, United States
GEO:40.7442036;-73.9853586
X-APPLE-STRUCTURED-LOCATION;VALUE=URI;X-ADDRESS=79 Madison Avenue New York NY 10016 United States;X-APPLE-RADIUS=500;X-TITLE=79 Madison Avenue:geo:-73.9853586,40.7442036
ATTACH;FMTTYPE=image/jpeg:http://archive.theatrewomen.org/wp-content/uploads/2015/12/IMG_5886-3.jpg
END:VEVENT
END:VCALENDAR