BEGIN:VCALENDAR
VERSION:2.0
PRODID:-//League of Professional Theatre Women - ECPv4.2.7//NONSGML v1.0//EN
CALSCALE:GREGORIAN
METHOD:PUBLISH
X-WR-CALNAME:League of Professional Theatre Women
X-ORIGINAL-URL:http://archive.theatrewomen.org
X-WR-CALDESC:Events for League of Professional Theatre Women
BEGIN:VEVENT
DTSTART;TZID=America/New_York:20160229T180000
DTEND;TZID=America/New_York:20160229T200000
DTSTAMP:20260419T114817
CREATED:20160106T202708
LAST-MODIFIED:20160309T171815
UID:4652-1456768800-1456776000@archive.theatrewomen.org
SUMMARY:LPTW Networking Panel: Unsung Heroes - Backstage Professionals
DESCRIPTION:\n\n\n\nNetworking Panel Highlights!\n\n\n\n\n\n\nThe League of Professional Theatre Women’s Networking Committee leaped forward on Monday\, February 29 to a packed house honoring Broadway’s Unsung Heroes: Backstage Professionals at TheaterLab!\n\nThe event featured star panelists: Carey Bertini(Broadway dresser)\, Wendy Davidson(Local One Stagehand)\, Christina Grant (Hair & Make-up Artists)\, Starlet Jacobs(Set Designer)\, Eileen Macdonald (Sound Engineer)\, Marilyn Rennagel (Lighting Designer)\, and Sylvia Yoshioka(House Electrician). Moderated by Jane Dubin (Broadway Producer and LPTW Board Member).\n\nBest advice of the evening offered by these backstage pros:\n“Gather the women around you!”\nAnd we did. And we shall.\n\n\n[embed]https://www.youtube.com/watch?v=drklrqW7OEM[/embed]\n\n\n\nPanelists (Front Row L to R): Eileen Macdonald\, Christina Grant\, Sylvia Yoshioka\, Marilyn Rennagel. (Back Row L to R): Frances McGarry (Networking Co-Chair)\, Wendy Davidson\, Jane Dubin (Moderator)\, Carey Bertini\, Joan Kane (Networking Co-Chair).\n\n\nNetworking Committee (L to R): Richarda Abrams\, Romy Nordlinger\, Joan Kane (Co-Chair)\, Ivy Austin\, Katherine Elliot\, Amie Sponza\, Frances McGarry (Co-Chair)\n\nPanelist discussion (L to R): Wendy Davidson\, Starlet Jacobs\, Eileen Macdonald\n\n\nWendy Davidson\, Jim Claffey (President IATSE Local One)\, Eileen Macdonald\, Sylvia Yoshioka\n\nA full house!\nStella Berg\, Katherine ElliotPhoto Credit: Lizzy Bryce\n\nSAVE THE DATE!\nMonday\, May 9th at 6pm\nNew Wave: Young Members and their Projects!\n\n\n\n\n
URL:http://archive.theatrewomen.org/event/lptw-networking-panel-unsung-heroes-backstage-professionals/
LOCATION:357 West 36th Street\, 3rd Floor\, New York\, NY\, 10018\, United States
GEO:40.7545052;-73.9946137
X-APPLE-STRUCTURED-LOCATION;VALUE=URI;X-ADDRESS=357 West 36th Street 3rd Floor New York NY 10018 United States;X-APPLE-RADIUS=500;X-TITLE=357 West 36th Street\, 3rd Floor:geo:-73.9946137,40.7545052
ATTACH;FMTTYPE=image/jpeg:http://archive.theatrewomen.org/wp-content/uploads/2015/09/networking.jpg
END:VEVENT
END:VCALENDAR