BEGIN:VCALENDAR
VERSION:2.0
PRODID:-//League of Professional Theatre Women - ECPv4.2.7//NONSGML v1.0//EN
CALSCALE:GREGORIAN
METHOD:PUBLISH
X-WR-CALNAME:League of Professional Theatre Women
X-ORIGINAL-URL:http://archive.theatrewomen.org
X-WR-CALDESC:Events for League of Professional Theatre Women
BEGIN:VEVENT
DTSTART;TZID=America/New_York:20160426T173000
DTEND;TZID=America/New_York:20160426T190000
DTSTAMP:20260419T132752
CREATED:20160112T192804
LAST-MODIFIED:20160629T215623
UID:4680-1461691800-1461697200@archive.theatrewomen.org
SUMMARY:LPTW International Committee Meeting
DESCRIPTION:The LPTW’s International Committee met to discuss the next year of international programming.\n\nAll meetings were held from 5:30pm-7:00pm in the 10th floor conference room at The Actors Fund\, located at 729 Seventh Avenue.
URL:http://archive.theatrewomen.org/event/lptw-international-committee-meeting-3/
LOCATION:New York\, United States
ATTACH;FMTTYPE=image/gif:http://archive.theatrewomen.org/wp-content/uploads/2016/01/International-Logo_HalfPage.gif
END:VEVENT
END:VCALENDAR