BEGIN:VCALENDAR
VERSION:2.0
PRODID:-//League of Professional Theatre Women - ECPv4.2.7//NONSGML v1.0//EN
CALSCALE:GREGORIAN
METHOD:PUBLISH
X-WR-CALNAME:League of Professional Theatre Women
X-ORIGINAL-URL:http://archive.theatrewomen.org
X-WR-CALDESC:Events for League of Professional Theatre Women
BEGIN:VEVENT
DTSTART;TZID=America/New_York:20170918T180000
DTEND;TZID=America/New_York:20170918T200000
DTSTAMP:20260419T203302
CREATED:20170807T163239
LAST-MODIFIED:20170807T163239
UID:7731-1505757600-1505764800@archive.theatrewomen.org
SUMMARY:LPTW Committee Head Mixer
DESCRIPTION:
URL:http://archive.theatrewomen.org/event/lptw-committee-head-mixer/
END:VEVENT
END:VCALENDAR