BEGIN:VCALENDAR
VERSION:2.0
PRODID:-//League of Professional Theatre Women - ECPv4.2.7//NONSGML v1.0//EN
CALSCALE:GREGORIAN
METHOD:PUBLISH
X-WR-CALNAME:League of Professional Theatre Women
X-ORIGINAL-URL:http://archive.theatrewomen.org
X-WR-CALDESC:Events for League of Professional Theatre Women
BEGIN:VEVENT
DTSTART;TZID=America/New_York:20190506T183000
DTEND;TZID=America/New_York:20190506T220000
DTSTAMP:20260420T043536
CREATED:20190329T190517
LAST-MODIFIED:20190329T190517
UID:12773-1557167400-1557180000@archive.theatrewomen.org
SUMMARY:Lifetime Achievement Award for Sheilah Rae
DESCRIPTION:Longtime League member and past LPTW President Sheilah Rae is being honored by NY Theatre Barn with a Lifetime Achievement Award on May 6th at The Cell\, NYC.
URL:http://archive.theatrewomen.org/event/lifetime-achievement-award-for-sheilah-rae/
LOCATION:338 W. 23 St.\, New York\, NY\, United States
CATEGORIES:Member News & Events
ATTACH;FMTTYPE=image/jpeg:http://archive.theatrewomen.org/wp-content/uploads/2019/03/Invitation-for-Sheilah-Raes-LAA.jpg
ORGANIZER;CN="NY%20Theatre%20Barn":MAILTO:denise@nytheatrebarn.org
END:VEVENT
END:VCALENDAR