BEGIN:VCALENDAR
VERSION:2.0
PRODID:-//League of Professional Theatre Women - ECPv4.2.7//NONSGML v1.0//EN
CALSCALE:GREGORIAN
METHOD:PUBLISH
X-WR-CALNAME:League of Professional Theatre Women
X-ORIGINAL-URL:http://archive.theatrewomen.org
X-WR-CALDESC:Events for League of Professional Theatre Women
BEGIN:VEVENT
DTSTART;TZID=America/New_York:20151215T190000
DTEND;TZID=America/New_York:20151215T203000
DTSTAMP:20260419T145404
CREATED:20151207T232825
LAST-MODIFIED:20151215T182539
UID:4619-1450206000-1450211400@archive.theatrewomen.org
SUMMARY:Julia's Reading Room - We Love You Shirley
DESCRIPTION:Tuesday\, December 15th at 7pm\nThe Players\n16 Gramercy Park South \nWe Love You Shirley\nWritten and read by: Sharon Hope\nDirected by: Jeffery Van Thompson\nStage Directions read by: Rosita Timm\nSynopsis:\nIn 1964 Shirley (Anita St. Hill) Chisholm one of four girls born to immigrant parents\, is the only female elected to represent her Brooklyn community in the NY State Assembly in Albany.  In this presentation we see who has inspired her to claim her status in U.S. history as the first black female elected to the NY State Assembly\, and eventually to be the only black female nominated to run for President of the United States.
URL:http://archive.theatrewomen.org/event/julias-reading-room-we-love-you-shirley/
LOCATION:New York\, United States
ATTACH;FMTTYPE=image/png:http://archive.theatrewomen.org/wp-content/uploads/2015/12/JRR-flyer1.png
END:VEVENT
END:VCALENDAR