BEGIN:VCALENDAR
VERSION:2.0
PRODID:-//League of Professional Theatre Women - ECPv4.2.7//NONSGML v1.0//EN
CALSCALE:GREGORIAN
METHOD:PUBLISH
X-WR-CALNAME:League of Professional Theatre Women
X-ORIGINAL-URL:http://archive.theatrewomen.org
X-WR-CALDESC:Events for League of Professional Theatre Women
BEGIN:VEVENT
DTSTART;TZID=America/New_York:20151020T190000
DTEND;TZID=America/New_York:20151020T210000
DTSTAMP:20260419T191018
CREATED:20151008T193343
LAST-MODIFIED:20151009T192614
UID:4418-1445367600-1445374800@archive.theatrewomen.org
SUMMARY:Julia's Reading Room: CON by Molly Fowler
DESCRIPTION:Photo credit: Joe Venafro\n\nCON  \nby Molly Fowler\n\nA filmmaker spends a year in a men’s maximum security prison documenting a group of inmates who staff their own hospice. In the process\, she uncovers some truths that challenge her understanding of redemption and learns that forgiveness may only be achieved in direct proportion to the extent to which we see ourselves.\n\nCast:\nAmelia: Gabriele Schafer (member LPTW)\nBird: Dennis Green\nJake: Doc Dougherty\nMcComb: TBD\nWarden Boudreaux: Sophia Golden\nStage Directions: Gordon Ramsey\n\nDirector:  Molly Fowler and Gabriele Schafer\nDramaturg: Gabriele Schafer\n\nMolly Fowler is an award-winning producer\, director and writer for television\, film and theatre\, specializing in documentary (long and short form) scripted serial drama and international production. Ms. Fowler has divided her professional work between drama and journalism.  She began her career at the Yale School of Drama\, apprenticed at Actors Theatre of Louisville\, has directed and/or produced plays on and Off-Broadway and in the West End in London\, was the Literary Manager for Manhattan Theatre Club and the Kenyon Festival Theatre. She worked in feature film developing material for 3 major studios as well as for Dustin Hoffman’s Punch Productions. She was a dramaturg and director at the Sundance Institute for 3 summers. After transitioning to TV she studio produced for Phil Donahue and was a booker for Diane Sawyer\, as an off-air reporter for ABC News.  For 7 years\, she was a development and programming executive for ABC Entertainment.\n\nShe left ABC to Senior/Series Produce three two-hour documentary specials for the Discovery Networks International and The New York Times. Her documentary work has been seen on National Geographic\, A&E\, Lifetime\, Voom\, and two of her feature docs were developed at the Tribeca Institute’ All-Access program. She has been a show runner/series producer of two reality shows: for TLC and for E\, and a newsmagazine for ABC and OWN called “Beyond Belief on OWN” hosted by Wes Moore.\n\nShe was the Co-Exec with Wes Moore of the critically acclaimed ‘Coming Back with Wes Moore’ for PBS\, is currently working on two documentaries\, one about the painter Edwin Cohen and the other about the healthcare conundrum.\n\nShe lived in a men’s maximum security prison to make “Serving Life” for Oprah’s Doc Club which she Executive Produced with Forest Whitaker and which earned among others\, Christopher and Humanitas Awards.
URL:http://archive.theatrewomen.org/event/julias-reading-room-con-by-molly-fowler/
LOCATION:New York\, United States
CATEGORIES:Julia's Reading Room
ATTACH;FMTTYPE=image/jpeg:http://archive.theatrewomen.org/wp-content/uploads/2015/10/Reading.jpg
END:VEVENT
END:VCALENDAR