BEGIN:VCALENDAR
VERSION:2.0
PRODID:-//League of Professional Theatre Women - ECPv4.2.7//NONSGML v1.0//EN
CALSCALE:GREGORIAN
METHOD:PUBLISH
X-WR-CALNAME:League of Professional Theatre Women
X-ORIGINAL-URL:http://archive.theatrewomen.org
X-WR-CALDESC:Events for League of Professional Theatre Women
BEGIN:VEVENT
DTSTART;TZID=America/New_York:20171130T180000
DTEND;TZID=America/New_York:20171130T193000
DTSTAMP:20260421T100317
CREATED:20170807T165148
LAST-MODIFIED:20170807T165148
UID:7750-1512064800-1512070200@archive.theatrewomen.org
SUMMARY:Julia's Reading Room
DESCRIPTION:
URL:http://archive.theatrewomen.org/event/julias-reading-room-4/
LOCATION:425 Ave of the Americas\, New York\, NY\, United States
GEO:40.7345794;-73.999148
X-APPLE-STRUCTURED-LOCATION;VALUE=URI;X-ADDRESS=425 Ave of the Americas New York NY United States;X-APPLE-RADIUS=500;X-TITLE=425 Ave of the Americas:geo:-73.999148,40.7345794
CATEGORIES:Julia's Reading Room
END:VEVENT
END:VCALENDAR