BEGIN:VCALENDAR
VERSION:2.0
PRODID:-//League of Professional Theatre Women - ECPv4.2.7//NONSGML v1.0//EN
CALSCALE:GREGORIAN
METHOD:PUBLISH
X-WR-CALNAME:League of Professional Theatre Women
X-ORIGINAL-URL:http://archive.theatrewomen.org
X-WR-CALDESC:Events for League of Professional Theatre Women
BEGIN:VEVENT
DTSTART;TZID=America/New_York:20180925T180000
DTEND;TZID=America/New_York:20180925T200000
DTSTAMP:20260420T102904
CREATED:20180808T194935
LAST-MODIFIED:20180919T212532
UID:11271-1537898400-1537905600@archive.theatrewomen.org
SUMMARY:Julia's Reading Room: The Seven Ages of DD by LPTW Member Ruth Wolff
DESCRIPTION:Tuesday\, September 25\n6PM\n\nThe Jefferson Market Library\n425 Avenue of the Americas\nBetween West 9th and West 10th Street\n\n\nThe Seven Ages of DD\nBy Ruth Wolff\n\n\nThe first reading of the JRR series this season is Ruth Wolff’s play: The Seven Ages of DD.\n\nThis major work spans one woman’s entire lifetime.  The play\, Wolff’s response to Shakespeare’s Seven Ages of Man\, unfolds in seven scenes – The Seven Ages of Woman. While the actions are specific to DD\, every woman will recognize iconic moments from the phases of women’s lives\, experienced\, in one way or another\, by all.\n\nThe reading will begin promptly at 6.  Please arrive at least 15 minutes earlier.\n\nTo read about Wolff’s nineteen plays published by Broadway Play Publishing\, go to BroadwayPlayPub.com.  To read about Wolff’s newest publications – MONOLOGUES AND DUOLOGUES FROM THE PLAYS OF RUTH WOLFF and her novel\, WILD NIGHTS – go to worksbywolff.com.
URL:http://archive.theatrewomen.org/event/julias-reading-room-3/
LOCATION:425 Ave of the Americas\, New York\, NY\, United States
GEO:40.7345794;-73.999148
X-APPLE-STRUCTURED-LOCATION;VALUE=URI;X-ADDRESS=425 Ave of the Americas New York NY United States;X-APPLE-RADIUS=500;X-TITLE=425 Ave of the Americas:geo:-73.999148,40.7345794
CATEGORIES:Julia's Reading Room
ATTACH;FMTTYPE=image/jpeg:http://archive.theatrewomen.org/wp-content/uploads/2018/08/JRR.jpg
END:VEVENT
END:VCALENDAR