BEGIN:VCALENDAR
VERSION:2.0
PRODID:-//League of Professional Theatre Women - ECPv4.2.7//NONSGML v1.0//EN
CALSCALE:GREGORIAN
METHOD:PUBLISH
X-WR-CALNAME:League of Professional Theatre Women
X-ORIGINAL-URL:http://archive.theatrewomen.org
X-WR-CALDESC:Events for League of Professional Theatre Women
BEGIN:VEVENT
DTSTART;TZID=America/New_York:20201217T180000
DTEND;TZID=America/New_York:20201217T200000
DTSTAMP:20211011T014032
CREATED:20200911T134902
LAST-MODIFIED:20201202T194636
UID:14876-1608228000-1608235200@archive.theatrewomen.org
SUMMARY:Juliaâ€™s Reading Room
DESCRIPTION:Nobody's Perfect\nPlaywright: Julia Pascal\nDirector: Joan Kane\nJaney Goldberg is a 33 year old London designer at the top of her profession. She is a tiny bit of Zandra Rhodes\, a tiny bit of Stella McCartney and could almost be the Jewish granddaughter of Vivienne Westwood. But she is Janey Goldberg- happily unmarried and intending to stay single.However she becomes caught up in her parents' drama. She must help her Casanova father reconcile with her betrayed mother while dodging their pressure to push her into the Jewish marriage market. This anti-romantic comedyÂ Â examines love\, libido and asks if erotic passion is a curse or a triumph.\n \n\nRSVP HERE
URL:http://archive.theatrewomen.org/event/julias-reading-room-14/
CATEGORIES:Julia's Reading Room
ATTACH;FMTTYPE=image/jpeg:http://archive.theatrewomen.org/wp-content/uploads/2020/09/thumbnail-2.jpg
END:VEVENT
END:VCALENDAR