BEGIN:VCALENDAR
VERSION:2.0
PRODID:-//League of Professional Theatre Women - ECPv4.2.7//NONSGML v1.0//EN
CALSCALE:GREGORIAN
METHOD:PUBLISH
X-WR-CALNAME:League of Professional Theatre Women
X-ORIGINAL-URL:http://archive.theatrewomen.org
X-WR-CALDESC:Events for League of Professional Theatre Women
BEGIN:VEVENT
DTSTART;TZID=America/New_York:20151002T080000
DTEND;TZID=America/New_York:20151004T170000
DTSTAMP:20260419T192456
CREATED:20150824T192518
LAST-MODIFIED:20160629T220356
UID:4247-1443772800-1443978000@archive.theatrewomen.org
SUMMARY:THE LPTW WENT ON A TRIP TO WASHINGTON D.C.!
DESCRIPTION:The LPTW made a trip to Washington D.C. to support the Women’s Voices Theatre Festival!\nDates: Friday\, October 2 – Sunday\, October 4\nThere wa a complimentary reception at Arena Stageon Friday\, Oct 2 from 5-7pm with theater women in the DC area. This reception served to both celebrate the festival and encourage the formation of an LPTW DC chapter.\nCLICK HERE TO VISIT THE WOMEN’S VOICES THEATRE FESTIVAL’S WEBSITE!
URL:http://archive.theatrewomen.org/event/join-the-lptw-on-a-trip-to-washington-d-c/
LOCATION:New York\, United States
ATTACH;FMTTYPE=image/jpeg:http://archive.theatrewomen.org/wp-content/uploads/2015/08/DC.jpg
END:VEVENT
END:VCALENDAR