BEGIN:VCALENDAR
VERSION:2.0
PRODID:-//League of Professional Theatre Women - ECPv4.2.7//NONSGML v1.0//EN
CALSCALE:GREGORIAN
METHOD:PUBLISH
X-WR-CALNAME:League of Professional Theatre Women
X-ORIGINAL-URL:http://archive.theatrewomen.org
X-WR-CALDESC:Events for League of Professional Theatre Women
BEGIN:VEVENT
DTSTART;TZID=America/New_York:20170304T140000
DTEND;TZID=America/New_York:20170304T160000
DTSTAMP:20260419T131513
CREATED:20170131T190633
LAST-MODIFIED:20170131T190633
UID:6243-1488636000-1488643200@archive.theatrewomen.org
SUMMARY:Inside Emily Dickinson:  Her Poetry & Her Life
DESCRIPTION:Created & Performed by Ginger Grace\n\nThis inspiring biographical portrait is based on the letters\, life stories and poems of Emily Dickinson. It combines performance with interactive workshop activities. In the course of the show\, Ms. Grace reaches out to the audience for ideas\, words and phrases\, and with their input\, new poems are created. The spirit of Emily Dickinson is celebrated not only with her story - filled with heart and humor – but with the immediate creativity taking place in the room!
URL:http://archive.theatrewomen.org/event/inside-emily-dickinson-her-poetry-her-life-2/
LOCATION:350 Bedford Road\, Pleasantville\, NY\, 10570\, United States
GEO:41.134912;-73.7859019
X-APPLE-STRUCTURED-LOCATION;VALUE=URI;X-ADDRESS=350 Bedford Road Pleasantville NY 10570 United States;X-APPLE-RADIUS=500;X-TITLE=350 Bedford Road:geo:-73.7859019,41.134912
CATEGORIES:Member News & Events
ATTACH;FMTTYPE=image/jpeg:http://archive.theatrewomen.org/wp-content/uploads/2017/01/Press-Production-Photos-BELLE-Emily-in-Chair-with-Book-0012.jpg
END:VEVENT
END:VCALENDAR