BEGIN:VCALENDAR
VERSION:2.0
PRODID:-//League of Professional Theatre Women - ECPv4.2.7//NONSGML v1.0//EN
CALSCALE:GREGORIAN
METHOD:PUBLISH
X-WR-CALNAME:League of Professional Theatre Women
X-ORIGINAL-URL:http://archive.theatrewomen.org
X-WR-CALDESC:Events for League of Professional Theatre Women
BEGIN:VEVENT
DTSTART;TZID=America/New_York:20170405T140000
DTEND;TZID=America/New_York:20170405T160000
DTSTAMP:20260421T171629
CREATED:20170403T152029
LAST-MODIFIED:20170403T152029
UID:6742-1491400800-1491408000@archive.theatrewomen.org
SUMMARY:Inside Emily Dickinson:  Her Poetry & Her Life
DESCRIPTION:This inspiring biographical portrait is based on the letters\, life stories and poems of Emily Dickinson. It combines performance with interactive workshop activities. In the course of the show\, Ms. Grace reaches out to the audience for ideas\, words and phrases\, and with their input\, new poems are created. The spirit of Emily Dickinson is celebrated not only with her story - filled with heart and humor – but with the immediate creativity taking place in the room!
URL:http://archive.theatrewomen.org/event/inside-emily-dickinson-her-poetry-her-life-11/
LOCATION:470 Main Street\, Watertown\, CT\, 06795\, United States
CATEGORIES:Member News & Events
ATTACH;FMTTYPE=image/jpeg:http://archive.theatrewomen.org/wp-content/uploads/2017/04/Press-Production-Photos-BELLE-Emily-in-Chair-with-Book-0012.jpg
ORGANIZER;CN="Ginger%20Grace":MAILTO:ginger.grace@aol.com
END:VEVENT
END:VCALENDAR