BEGIN:VCALENDAR
VERSION:2.0
PRODID:-//League of Professional Theatre Women - ECPv4.2.7//NONSGML v1.0//EN
CALSCALE:GREGORIAN
METHOD:PUBLISH
X-WR-CALNAME:League of Professional Theatre Women
X-ORIGINAL-URL:http://archive.theatrewomen.org
X-WR-CALDESC:Events for League of Professional Theatre Women
BEGIN:VEVENT
DTSTART;TZID=America/New_York:20181029T183000
DTEND;TZID=America/New_York:20181029T213000
DTSTAMP:20260420T110102
CREATED:20180919T190954
LAST-MODIFIED:20180919T190954
UID:11591-1540837800-1540848600@archive.theatrewomen.org
SUMMARY:Houses on the Moon Amplify 2018 hosted by Brandon Victor Dixon\, honoring Warren Adams and New Sanctuary Coalition
DESCRIPTION:LPTW member Jane Dubin\, co-President of Houses on the Moon Theater Company invites you to our annual celebration. Amplify 2018 is hosted by Tony\, Emmy and Grammy nominee Brandon Victor Dixon\, honoring producer/director/choreographer Warren Adams and nfp the New Sanctuary Coalition on Monday\, October 29 beginning at 6:30 pm. More information about Houses and Amplify at http://bit.ly/Houses2018.
URL:http://archive.theatrewomen.org/event/houses-on-the-moon-amplify-2018-hosted-by-brandon-victor-dixon-honoring-warren-adams-and-new-sanctuary-coalition/
LOCATION:44 East 32nd Street\, New York\, NY\, 10016\, United States
CATEGORIES:Member News & Events
ATTACH;FMTTYPE=image/png:http://archive.theatrewomen.org/wp-content/uploads/2018/09/HOTM-FB-Warren_FBSquare.png
ORGANIZER;CN="Kevin%20Connor":MAILTO:emily@housesonthemoon.org
END:VEVENT
END:VCALENDAR