BEGIN:VCALENDAR
VERSION:2.0
PRODID:-//League of Professional Theatre Women - ECPv4.2.7//NONSGML v1.0//EN
CALSCALE:GREGORIAN
METHOD:PUBLISH
X-WR-CALNAME:League of Professional Theatre Women
X-ORIGINAL-URL:http://archive.theatrewomen.org
X-WR-CALDESC:Events for League of Professional Theatre Women
BEGIN:VEVENT
DTSTART;TZID=America/New_York:20170220T190000
DTEND;TZID=America/New_York:20170220T210000
DTSTAMP:20260419T194449
CREATED:20170220T165752
LAST-MODIFIED:20170220T165752
UID:6370-1487617200-1487624400@archive.theatrewomen.org
SUMMARY:HerStory 2: We Rise
DESCRIPTION:HERSTORY 2: WE RISE will take place at the Silk Road Art Gallery in New Haven\, CT\, March 10th and 11th at 7pm. The performance will be followed by a Q & A with the writers\, actors\, directors\, and organizers. Plays include Ida and Leonor written by Danielle Winston and directed by Ingrid Oslund\, A Moment of Silence\, written by Allie Costa and directed by Moira Malone\, K.C. Reporting\, Earth Do You Read Me? written by Natalie Osborne and directed by Keith Paul\, and My Aim is True\, written by Lucy Wang and directed by Shellen Lubin. There will be a raffle with prizes including gift cards to Cloud 9 Day Spa\, Rainbow Gardens\, and the Canvas Patch. There is a $10 suggested donation for entry. Tickets are available at the door\, first come first serve.
URL:http://archive.theatrewomen.org/event/herstory-2-we-rise/
LOCATION:83 Audubon Street\, New Haven\, CT\, 06510\, United States
CATEGORIES:Member News & Events
ATTACH;FMTTYPE=image/png:http://archive.theatrewomen.org/wp-content/uploads/2017/02/herstory2.png
END:VEVENT
END:VCALENDAR