BEGIN:VCALENDAR
VERSION:2.0
PRODID:-//League of Professional Theatre Women - ECPv4.2.7//NONSGML v1.0//EN
CALSCALE:GREGORIAN
METHOD:PUBLISH
X-WR-CALNAME:League of Professional Theatre Women
X-ORIGINAL-URL:http://archive.theatrewomen.org
X-WR-CALDESC:Events for League of Professional Theatre Women
BEGIN:VEVENT
DTSTART;TZID=America/New_York:20190409T200000
DTEND;TZID=America/New_York:20190409T220000
DTSTAMP:20260420T042738
CREATED:20190329T152841
LAST-MODIFIED:20190329T152841
UID:12742-1554840000-1554847200@archive.theatrewomen.org
SUMMARY:#HealMeToo Theatre Festival presents Self / Worth: A Variety Show
DESCRIPTION:Self / Worth: A Variety Show is an evening of multi-disciplinary dance\, puppetry\, songs and stories including Yvette Heyliger performing "The Dues That Must Be Paid" in which a middle-aged Black actress recounts her story of sexual harassment and assault as a newcomer to the New York theatre scene.
URL:http://archive.theatrewomen.org/event/healmetoo-theatre-festival-presents-self-worth-a-variety-show/2019-04-09/
LOCATION:154 Christopher Street #3B\, New York\, NY\, 10014\, United States
CATEGORIES:Member News & Events
ATTACH;FMTTYPE=image/jpeg:http://archive.theatrewomen.org/wp-content/uploads/2019/03/HealMeToo-festival-logo.jpg
ORGANIZER;CN="Yvette%20Heyliger":MAILTO:yvetteheyliger@gmail.com
END:VEVENT
END:VCALENDAR