BEGIN:VCALENDAR
VERSION:2.0
PRODID:-//League of Professional Theatre Women - ECPv4.2.7//NONSGML v1.0//EN
CALSCALE:GREGORIAN
METHOD:PUBLISH
X-WR-CALNAME:League of Professional Theatre Women
X-ORIGINAL-URL:http://archive.theatrewomen.org
X-WR-CALDESC:Events for League of Professional Theatre Women
BEGIN:VEVENT
DTSTART;TZID=Africa/Abidjan:20170630T000000
DTEND;TZID=Africa/Abidjan:20170630T213000
DTSTAMP:20260419T174737
CREATED:20170502T154305
LAST-MODIFIED:20170502T154305
UID:7174-1498780800-1498858200@archive.theatrewomen.org
SUMMARY:Gutless and Grateful at Feinstein's/54 Below
DESCRIPTION:Amy Oestreicher will make her 54 Below debut with her award-winning musical comedy\, Gutless & Grateful\, June 30th at 9:30pm. Inspired by one "exploding stomach" which eventually turned into s "beautiful Detour\," Oestreicher weaves her near death experience and inspiring perspective through interwoven song and dialogue\, comedically highlighting struggles\, triumphs and “beautiful detours” in her life. Featured on TEDx\, Huffington Post and NBC's Today Show\, the 70-minute musical chronicles "thriving" through a decade of trauma\, including an original song written by Kathie Lee Gifford & David Friedman.
URL:http://archive.theatrewomen.org/event/gutless-and-grateful-at-feinsteins54-below/
LOCATION:254 54th St Cellar\, New York\, New York\, Select a Country:
CATEGORIES:Member News & Events
ATTACH;FMTTYPE=image/jpeg:http://archive.theatrewomen.org/wp-content/uploads/2017/05/7530C6CA-593D-4C7F-A261-C9086D647293-1787-0000041D805F3276.jpeg
ORGANIZER;CN="54%20Below%2FAmy%20Oestreicher":MAILTO:Amyoes70@gmail.com
END:VEVENT
END:VCALENDAR