BEGIN:VCALENDAR
VERSION:2.0
PRODID:-//League of Professional Theatre Women - ECPv4.2.7//NONSGML v1.0//EN
CALSCALE:GREGORIAN
METHOD:PUBLISH
X-WR-CALNAME:League of Professional Theatre Women
X-ORIGINAL-URL:http://archive.theatrewomen.org
X-WR-CALDESC:Events for League of Professional Theatre Women
BEGIN:VEVENT
DTSTART;TZID=America/New_York:20170319T140000
DTEND;TZID=America/New_York:20170319T170000
DTSTAMP:20260419T180515
CREATED:20170220T165610
LAST-MODIFIED:20170220T165610
UID:6374-1489932000-1489942800@archive.theatrewomen.org
SUMMARY:Give Us Bread: A Special Concert Reading
DESCRIPTION:"One hundred years before the Women’s March\,\nimmigrant women banded together to lead an uprising.”\n\nThe Anthropologists return hot off a successful run of No Man's Land to honor the the centennial of the 1917 Lower East Side food riots with a special Concert Reading of their original 2009 play Give Us Bread on Sunday\, March 19 at 2PM at the University Settlement (184 Eldridge Street at the corner of Rivington\, New York\, NY 10002). This will also be a Benefit for the company\, who will premiere its newest work\, This Sinking Island\, at the University Settlement in Fall 2017. The venue is accessible. Tickets are $35 ($40 at the door) and include the performance followed by a reception.\n\nBased on true events\, Give Us Bread brings to life the little-known stories of immigrant women on the Lower East Side who banded together to lead an uprising and feed their families. One hundred years before the Women’s March\, these "everyday housewives" provide a lens with which to examine current-day politics\, social conditions and today’s global food system. Give Us Bread offers an important reminder from the past that the voice of the people\, united\, has power to inspire change.\n\nMeticulously researched from Yiddish newspapers to cookbooks to Jewish anarchist Marie Ganz’s memoir and other firsthand accounts\, The Anthropologists’ play (originally produced in 2009) was hailed by nytheatre.com as “a thoroughly entertaining and thought provoking play mixing elements of dance and stylized movement to create a piece that is wholly within its own hybrid Anthropologists genre.” Founding Artistic Director Melissa Moschitto will be rejoined by the original cast. The Anthropologists are thrilled to be sharing this remarkable history with a new audience at the doorstep of these historical events.
URL:http://archive.theatrewomen.org/event/give-us-bread-a-special-concert-reading/
LOCATION:184 Eldridge Street\, New York\, NY\, 10002\, United States
CATEGORIES:Member News & Events
ATTACH;FMTTYPE=image/jpeg:http://archive.theatrewomen.org/wp-content/uploads/2017/02/Anthro.jpg
ORGANIZER;CN="Malini%20Singh%20McDonald":MAILTO:malini@theatrebeyondbroadway.com
END:VEVENT
END:VCALENDAR