BEGIN:VCALENDAR
VERSION:2.0
PRODID:-//League of Professional Theatre Women - ECPv4.2.7//NONSGML v1.0//EN
CALSCALE:GREGORIAN
METHOD:PUBLISH
X-WR-CALNAME:League of Professional Theatre Women
X-ORIGINAL-URL:http://archive.theatrewomen.org
X-WR-CALDESC:Events for League of Professional Theatre Women
BEGIN:VEVENT
DTSTART;TZID=America/New_York:20181007T180000
DTEND;TZID=America/New_York:20181007T185000
DTSTAMP:20260420T115400
CREATED:20180911T181322
LAST-MODIFIED:20180911T181322
UID:11559-1538935200-1538938200@archive.theatrewomen.org
SUMMARY:First By Faith: The Life Of Mary McLeod Bethune written and performed by Richarda Abrams
DESCRIPTION:Developed through LPTW's Julia's Reading Room\, League Member/former Board Member and Networking Cte. Co-Chair\, Richarda Abrams explores Mary McLeod Bethune’s personal journey from an uneducated child to a world-renowned educator\, humanitarian\, civil rights activist\, stateswoman and philanthropist. Performer/Playwright Richarda Abrams uses song\, storytelling\, and humor to transcend time and gender\, as Mary returns to earth to share one last lesson. Because LPTW members Jenny Lyn Bader and Richarda Abrams had #OneMoreConversation\, Richarda participated in Theatre 167's WetInk Festival\, which led to this premiere of First By Faith: The Life Of Mary McLeod Bethune in The United Solo Theatre Festival. LPTW Rocks!!!!\n\nFirst By Faith: The Life Of Mary McLeod Bethune\nSunday\, October 7\, 2018 6pm-6:50pm\nUnited Solo Theatre Festival on Theatre Row\n410 West 42nd Street\nBetween 9th & 10th Aves
URL:http://archive.theatrewomen.org/event/first-by-faith-the-life-of-mary-mcleod-bethune-written-and-performed-by-richarda-abrams/
LOCATION:410 West 42nd Street\, New York\, NY\, 10036\, United States
GEO:40.7583763;-73.9934141
X-APPLE-STRUCTURED-LOCATION;VALUE=URI;X-ADDRESS=410 West 42nd Street New York NY 10036 United States;X-APPLE-RADIUS=500;X-TITLE=410 West 42nd Street:geo:-73.9934141,40.7583763
CATEGORIES:Member News & Events
ATTACH;FMTTYPE=image/jpeg:http://archive.theatrewomen.org/wp-content/uploads/2018/09/United-Solo-Festival-Mary-McLeod-Bethune-postcard-laurel-FRONT.jpg
ORGANIZER;CN="Richarda%20Abrams":MAILTO:richarda@richardaabrams.com
END:VEVENT
END:VCALENDAR