BEGIN:VCALENDAR
VERSION:2.0
PRODID:-//League of Professional Theatre Women - ECPv4.2.7//NONSGML v1.0//EN
CALSCALE:GREGORIAN
METHOD:PUBLISH
X-WR-CALNAME:League of Professional Theatre Women
X-ORIGINAL-URL:http://archive.theatrewomen.org
X-WR-CALDESC:Events for League of Professional Theatre Women
BEGIN:VEVENT
DTSTART;TZID=America/New_York:20160217T113000
DTEND;TZID=America/New_York:20160217T133000
DTSTAMP:20260419T131349
CREATED:20160114T225513
LAST-MODIFIED:20160216T163511
UID:4690-1455708600-1455715800@archive.theatrewomen.org
SUMMARY:February Directors Circle
DESCRIPTION:
URL:http://archive.theatrewomen.org/event/february-directors-circle/
LOCATION:480 West 42nd Street\, New York\, NY\, 10036
GEO:40.7592276;-73.9952319
X-APPLE-STRUCTURED-LOCATION;VALUE=URI;X-ADDRESS=480 West 42nd Street New York NY 10036;X-APPLE-RADIUS=500;X-TITLE=480 West 42nd Street:geo:-73.9952319,40.7592276
END:VEVENT
END:VCALENDAR