BEGIN:VCALENDAR
VERSION:2.0
PRODID:-//League of Professional Theatre Women - ECPv4.2.7//NONSGML v1.0//EN
CALSCALE:GREGORIAN
METHOD:PUBLISH
X-WR-CALNAME:League of Professional Theatre Women
X-ORIGINAL-URL:http://archive.theatrewomen.org
X-WR-CALDESC:Events for League of Professional Theatre Women
BEGIN:VEVENT
DTSTART;TZID=America/New_York:20170710T080000
DTEND;TZID=America/New_York:20170716T170000
DTSTAMP:20260419T233632
CREATED:20170710T163349
LAST-MODIFIED:20170710T163349
UID:7590-1499673600-1500224400@archive.theatrewomen.org
SUMMARY:Errol and Fidel
DESCRIPTION:One adventure\, two heroes. Something's gotta give.\n\nCuba\, 1958: Revolution is in the air! In his final year Errol Flynn has one last adventure. The dashing star of so many Hollywood blockbusters yearns to be a real hero\, and Fidel Castro fits the bill. What Fidel craves is fame\, and who better than Errol to show him how? At the height of the revolution an explosive encounter beckons – fueled by envy\, lust\, and vanity – with a mysterious woman calling the tune. Or could the CIA really be pulling the strings? Who knew revolution could be so much fun?\n\nBook by Boyd Anderson & Guy Anderson; Music by Peter Kaldor\, John Kaldor and Doug Oberhamer; Lyrics by Boyd Anderson\n\nMonday\, July 10\, 2017 at 7:00 pm\nThursday\, July 13\, 2017 at 1:00 pm\nThursday\, July 13\, 2017 at 5:00 pm\nFriday\, July 14\, 2017 at 5:00 pm\nSunday\, July 16\, 2017 at 9:00 pm\n\nRunning time: 2 hours\n\nRecommended for ages 13+\n\nSET DESIGN BY STARLET JACOBS!
URL:http://archive.theatrewomen.org/event/errol-and-fidel/
LOCATION:New York\, NY\, United States
CATEGORIES:Member News & Events
END:VEVENT
END:VCALENDAR