BEGIN:VCALENDAR
VERSION:2.0
PRODID:-//League of Professional Theatre Women - ECPv4.2.7//NONSGML v1.0//EN
CALSCALE:GREGORIAN
METHOD:PUBLISH
X-WR-CALNAME:League of Professional Theatre Women
X-ORIGINAL-URL:http://archive.theatrewomen.org
X-WR-CALDESC:Events for League of Professional Theatre Women
BEGIN:VEVENT
DTSTART;TZID=Europe/Madrid:20170311T190000
DTEND;TZID=Europe/Madrid:20170311T230000
DTSTAMP:20260421T112435
CREATED:20170222T205258
LAST-MODIFIED:20170222T205258
UID:6472-1489258800-1489273200@archive.theatrewomen.org
SUMMARY:DIRIGE - MENTORÍAS A ESCENA
DESCRIPTION:The Spanish League of Professional Theatre Women presents three of its mentoring projects within a festival dedicated to female creators.\n\nDirected by Beatriz Cabur and Yolanda Dorado. Presented by Belén Santa Olalla.\n\nIf you are a member of the LPTW and you are in Madrid just come to the theatre\, ask for Beatriz Cabur and we will let you in for free!
URL:http://archive.theatrewomen.org/event/dirige-mentorias-a-escena/
LOCATION:Conde Duque\, 9\, Madrid\, Spain
CATEGORIES:Member News & Events
ATTACH;FMTTYPE=image/png:http://archive.theatrewomen.org/wp-content/uploads/2017/02/Banner-DIRIGE.png
ORGANIZER;CN="Beatriz%20Cabur":MAILTO:beatriz@nitecorp.com
END:VEVENT
END:VCALENDAR