BEGIN:VCALENDAR
VERSION:2.0
PRODID:-//League of Professional Theatre Women - ECPv4.2.7//NONSGML v1.0//EN
CALSCALE:GREGORIAN
METHOD:PUBLISH
X-WR-CALNAME:League of Professional Theatre Women
X-ORIGINAL-URL:http://archive.theatrewomen.org
X-WR-CALDESC:Events for League of Professional Theatre Women
BEGIN:VEVENT
DTSTART;TZID=America/New_York:20170718T193000
DTEND;TZID=America/New_York:20170826T200000
DTSTAMP:20260420T024119
CREATED:20170725T143016
LAST-MODIFIED:20170725T143016
UID:7639-1500406200-1503777600@archive.theatrewomen.org
SUMMARY:Dear Jane
DESCRIPTION:Set in a rehearsal room\, Dear Jane journeys into the life of a passionate artist\, Julie\, who explores the many divergent paths in her past.\nFrom her fractured relationship with her identical twin Jane\, to love affairs\, questionable parenting skills\, and her time as a political activist - she strives for something beyond our boundaries\, reaching for art as the ultimate expression of meaning.
URL:http://archive.theatrewomen.org/event/dear-jane/
LOCATION:410 West 42nd Street\, New York\, NY\, 10036\, United States
CATEGORIES:Member News & Events
ATTACH;FMTTYPE=image/jpeg:http://archive.theatrewomen.org/wp-content/uploads/2017/07/DJN-FF-SocialShare.jpg
ORGANIZER;CN="Perry%20Street%20Theatricals":MAILTO:lorna@pstheatricals.com
END:VEVENT
END:VCALENDAR