BEGIN:VCALENDAR
VERSION:2.0
PRODID:-//League of Professional Theatre Women - ECPv4.2.7//NONSGML v1.0//EN
CALSCALE:GREGORIAN
METHOD:PUBLISH
X-WR-CALNAME:League of Professional Theatre Women
X-ORIGINAL-URL:http://archive.theatrewomen.org
X-WR-CALDESC:Events for League of Professional Theatre Women
BEGIN:VEVENT
DTSTART;TZID=America/New_York:20170304T170000
DTEND;TZID=America/New_York:20170304T170000
DTSTAMP:20260421T094729
CREATED:20170227T205039
LAST-MODIFIED:20170227T205039
UID:6479-1488646800-1488646800@archive.theatrewomen.org
SUMMARY:CT Chapter LPTW Panel & Regional Mingle
DESCRIPTION:CT League of Professional Theatre Women\nPanel and Reception/Regional Mingle\n5 pm Saturday\, March 4\nIvoryton Playhouse\nAttendance is free\, but RSVP is required:\nRSVP HERE\n\nWe need some helpers with check-in\, set up and clean up.\nIf you can help\, please email:  LaurenYarger@hotmail.com.\n\nRemember\, purchasing tickets to attend the Women Playwrights Initiative reading which follows the panel and reception is separate. Tickets also are available for the readings on Friday\, March 3.\n\nFriday\, March 3\, 2017 – Readings at 7 pm\nGuenevere by CT Chapter member Susan Cinoman\, directed by Hannah Simms\nApple Season by Ellen Lewis\, directed by Brooks Appelbaum\n\nSaturday\, March 4\, 2017 – Readings at 7 pm\nBuck Naked by Gloria Bond Clunie\, directed by Shellen Lubin\nIntake by Margo Lasher\, directed by Sasha Bratt\n\nTicket prices:  $20 adult; $15 senior; $10 student.  Special 2-day pass – purchase tickets for both Friday and Saturday night performances for $30.00.  For tickets call 860-767-7318 or follow this link to purchase tickets online.  Members of the League of Professional Theatre Women may call 860-767-7318 to ask about a special discount price.
URL:http://archive.theatrewomen.org/event/ct-chapter-lptw-panel-regional-mingle/
LOCATION:103 Main Street\, Ivoryton\, CT\, United States
ATTACH;FMTTYPE=image/jpeg:http://archive.theatrewomen.org/wp-content/uploads/2017/02/ct-playhouse.jpg
END:VEVENT
END:VCALENDAR