BEGIN:VCALENDAR
VERSION:2.0
PRODID:-//League of Professional Theatre Women - ECPv4.2.7//NONSGML v1.0//EN
CALSCALE:GREGORIAN
METHOD:PUBLISH
X-WR-CALNAME:League of Professional Theatre Women
X-ORIGINAL-URL:http://archive.theatrewomen.org
X-WR-CALDESC:Events for League of Professional Theatre Women
BEGIN:VEVENT
DTSTART;TZID=America/New_York:20190509T120000
DTEND;TZID=America/New_York:20190509T133000
DTSTAMP:20260420T060122
CREATED:20190426T180829
LAST-MODIFIED:20190426T180829
UID:12988-1557403200-1557408600@archive.theatrewomen.org
SUMMARY:CT Chapter Ladies Who Lunch
DESCRIPTION:Join us for our next powerful networking lunch in Middletown\, CT as the Ladies Who Lunch meet at noon Thursday\, May 9\nAn RSVP via the Eventbrite link is required as seating is very limited. Location information will be sent with the confirmation.\nThe cost will be $20 plus tax and tip (and whatever you have to drink).\nThe menu includes:\nSalad and choice of pasta\, chicken parmesan or tilapia piccata.\nIf seating for the lunch is full\, you may enter your name on the waiting list and we will notify you if there is a cancellation.\nClick here to RSVP for Ladies Who Lunch Middletown.
URL:http://archive.theatrewomen.org/event/ct-chapter-ladies-who-lunch/
LOCATION:72 Court Street\, Middltown\, CT\, 06457\, United States
CATEGORIES:Member News & Events
ORGANIZER;CN="Mary%20Miko%2C%20CT%20Chapter":MAILTO:mmiko@goodspeed.org
END:VEVENT
END:VCALENDAR