BEGIN:VCALENDAR
VERSION:2.0
PRODID:-//League of Professional Theatre Women - ECPv4.2.7//NONSGML v1.0//EN
CALSCALE:GREGORIAN
METHOD:PUBLISH
X-WR-CALNAME:League of Professional Theatre Women
X-ORIGINAL-URL:http://archive.theatrewomen.org
X-WR-CALDESC:Events for League of Professional Theatre Women
BEGIN:VEVENT
DTSTART;TZID=America/New_York:20190206T180000
DTEND;TZID=America/New_York:20190206T200000
DTSTAMP:20260420T042322
CREATED:20190130T220017
LAST-MODIFIED:20190130T220017
UID:12338-1549476000-1549483200@archive.theatrewomen.org
SUMMARY:Circles By Discipline - Performer Circle
DESCRIPTION:Wednesday\, February 6\n6-8PM\n\nRipley Grier Studios\n939 8th Ave\, Studio #3A\nWest 56th/8th Ave\n\nJoin the Performer Circle\, relaunched by LPTW member\nDenise B. Flemming. Please bring a piece you are working on and be prepared to improv.\n\nRSVP:\nhard_earned@verizon.net
URL:http://archive.theatrewomen.org/event/circles-by-discipline-performer-circle/
LOCATION: 939 8th Ave\, Studio #3A
ATTACH;FMTTYPE=image/png:http://archive.theatrewomen.org/wp-content/uploads/2019/01/unnamed-39.png
END:VEVENT
END:VCALENDAR