BEGIN:VCALENDAR
VERSION:2.0
PRODID:-//League of Professional Theatre Women - ECPv4.2.7//NONSGML v1.0//EN
CALSCALE:GREGORIAN
METHOD:PUBLISH
X-WR-CALNAME:League of Professional Theatre Women
X-ORIGINAL-URL:http://archive.theatrewomen.org
X-WR-CALDESC:Events for League of Professional Theatre Women
BEGIN:VEVENT
DTSTART;TZID=America/New_York:20171108T120000
DTEND;TZID=America/New_York:20171108T150000
DTSTAMP:20260426T030445
CREATED:20170927T222056
LAST-MODIFIED:20180622T143218
UID:8075-1510142400-1510153200@archive.theatrewomen.org
SUMMARY:Special Lifetime Achievement Award Luncheon - Betty Corwin
DESCRIPTION:You Are Cordially Invited To Attend...\nA Special Life Achievement Award Luncheon Honoring\n\nBETTY CORWIN:THE WOMAN WHO PRESERVED THE AMERICAN THEATER\nIntroduction By Pulitzer Prize Winner Paula Vogel\nBetty Corwin\, a long-time league member\, created and founded The Theatre on Film and Tape Archives for The Library of Performing Arts At Lincoln Center (TOFT) in 1970\, and thus preserved generations of the American theatre.\nShe turned 97 on November 18th and continues to be a powerful force\, helming the League's Oral History Program- now in it's 25th Year!\n This Special Lifetime Achievement Luncheon includes a Champagne Toast\, generously donated by LPTW Member\, Sophia Romma\, Ph.D\, Esq.\n \nPrices:\n$95 - Member Ticket Purchase Here\n$125- Non Member Ticket Purchase Here\n$1\,750 - VIP Table for 10\, Includes Half Page B&W AD in 'BETTYBILL' Purchase Here\nPlease note that there are no Ovation Tix ticketing fees for purchasing online tickets\n \nChecks Payable To: \nThe League of Professional Theatre Women\n520 8th Ave\, 24th Floor NY 10018\n(Must be received by Wednesday\, November 1st)\n\n\n \nAd Pricing And Sizes (In Inches):\nPrices Listed For B&W\, Color is an Additional &50\nPlease Send Art as PDF or JPEG\nFull Page (&750) - 5.25 x 8.25\n1/2 Page (&500) - 5.25 x 4.1\n1/4 Page ($300) - 4.1 x 2.6\n1/8 Page ($200) - 2.6 x 2\n1/16 Page ($100) - 2.6 x 1\nName Listed on Congratulatory Page ($25)\nInside Front / Inside Back & Back Cover\, Full Page ($1\,000)\nSpace Is Limited!\n \nFor more information\, please contact:\nPADDISS@GMAIL.COM\nLUDOVICA@THEATREWOMEN.ORG\nSROMMA@THEATREWOMEN.ORG\n \nAmbassadors:\nPat Addiss\nMargot Astrachan\nCesi Davidson\nKatherine Elliot\nKimberly Loren Eaton\nShellen Lubin\nFrances McGarry\nKate Mueth\nSophia Romma\nErica Silberman
URL:http://archive.theatrewomen.org/event/betty-corwin/
LOCATION:234 W 44th St\, New York\, NY\, 10036\, United States
GEO:40.7578091;-73.9876071
X-APPLE-STRUCTURED-LOCATION;VALUE=URI;X-ADDRESS=234 W 44th St New York NY 10036 United States;X-APPLE-RADIUS=500;X-TITLE=234 W 44th St:geo:-73.9876071,40.7578091
ATTACH;FMTTYPE=image/jpeg:http://archive.theatrewomen.org/wp-content/uploads/2017/09/Betty.jpg
END:VEVENT
END:VCALENDAR