BEGIN:VCALENDAR
VERSION:2.0
PRODID:-//League of Professional Theatre Women - ECPv4.2.7//NONSGML v1.0//EN
CALSCALE:GREGORIAN
METHOD:PUBLISH
X-WR-CALNAME:League of Professional Theatre Women
X-ORIGINAL-URL:http://archive.theatrewomen.org
X-WR-CALDESC:Events for League of Professional Theatre Women
BEGIN:VEVENT
DTSTART;VALUE=DATE:20161202
DTEND;VALUE=DATE:20170401
DTSTAMP:20260421T111603
CREATED:20161202
LAST-MODIFIED:20170221
UID:5552-1480636800-1491091199@archive.theatrewomen.org
SUMMARY:Avenue Q
DESCRIPTION:Now Playing!\n\nNew World Stages\n340 West 50th Street (between 8th and 9th Avenues)\n\n“THE FUNNIEST SHOW IN TOWN!” - NY1\n\n“SWEETLY SATIRIC and SURPRISINGLY FRESH!” - The New York Times\,Critics’ Pick\n\n“ONE OF THE FUNNIEST SHOWS YOU’RE EVER LIKELY TO SEE!”\n- Entertainment Weekly\n\nWinner of the 2004 TONY® “TRIPLE CROWN” for BEST MUSICAL\, BEST SCORE and BEST BOOK\n\nPart flesh\, part felt and packed with heart\, AVENUE Q is still the funniest and freshest show in New York City! Now celebrating its 13th smash year!
URL:http://archive.theatrewomen.org/event/avenue-q/
LOCATION:New York\, NY\, United States
GEO:40.7127837;-74.0059413
CATEGORIES:Member News & Events
ATTACH;FMTTYPE=image/jpeg:http://archive.theatrewomen.org/wp-content/uploads/2016/12/unnamed-1.jpg
END:VEVENT
END:VCALENDAR