BEGIN:VCALENDAR
VERSION:2.0
PRODID:-//League of Professional Theatre Women - ECPv4.2.7//NONSGML v1.0//EN
CALSCALE:GREGORIAN
METHOD:PUBLISH
X-WR-CALNAME:League of Professional Theatre Women
X-ORIGINAL-URL:http://archive.theatrewomen.org
X-WR-CALDESC:Events for League of Professional Theatre Women
BEGIN:VEVENT
DTSTART;TZID=America/New_York:20190226T200000
DTEND;TZID=America/New_York:20190407T213000
DTSTAMP:20260420T170010
CREATED:20190204T153606
LAST-MODIFIED:20190204T153606
UID:12351-1551211200-1554672600@archive.theatrewomen.org
SUMMARY:Actually\, We're F**ked
DESCRIPTION:By Matt Williams\nDirected by John Pasquin\nWith Mairin Lee\, Keren Lugo\, Ben Rappaport\, Gabriel Sloyer\n\nEvery Thursday four millennials order take-out\, drink too much wine and argue over how to unf**k the planet. They know the world is a dumpster fire and they’re the generation to fix it – until someone makes a life changing announcement that challenges their beliefs\, their relationships and whether babies should have their own Instagram accounts. A new comedy about fertility\, infidelity and the end of the world.
URL:http://archive.theatrewomen.org/event/actually-were-fked/2019-02-26/
LOCATION:38 Commerce Street\, New York\, NY\, 10014\, United States
GEO:40.7312484;-74.0053266
X-APPLE-STRUCTURED-LOCATION;VALUE=URI;X-ADDRESS=38 Commerce Street New York NY 10014 United States;X-APPLE-RADIUS=500;X-TITLE=38 Commerce Street:geo:-74.0053266,40.7312484
CATEGORIES:Member News & Events
ATTACH;FMTTYPE=image/jpeg:http://archive.theatrewomen.org/wp-content/uploads/2019/02/AWF-Postcard-FRONT.jpg
ORGANIZER;CN="Cherry%20Lane%20Theatre":MAILTO:company@cherrylanetheatre.org
END:VEVENT
END:VCALENDAR