BEGIN:VCALENDAR
VERSION:2.0
PRODID:-//League of Professional Theatre Women - ECPv4.2.7//NONSGML v1.0//EN
CALSCALE:GREGORIAN
METHOD:PUBLISH
X-WR-CALNAME:League of Professional Theatre Women
X-ORIGINAL-URL:http://archive.theatrewomen.org
X-WR-CALDESC:Events for League of Professional Theatre Women
BEGIN:VEVENT
DTSTART;TZID=America/New_York:20190402T120000
DTEND;TZID=America/New_York:20190402T130000
DTSTAMP:20260420T025515
CREATED:20190329T162951
LAST-MODIFIED:20190329T203640
UID:12769-1554206400-1554210000@archive.theatrewomen.org
SUMMARY:2019 Equal Pay Day Rally
DESCRIPTION:Tuesday\, April 2nd\n12-1PM\n\nCity Hall Park\nBroadway\, New York\, NY\nEntrance at the intersection of\nPark Row & Spruce Street\n\nWe need stronger laws\, fairer wages\, better jobs\, and more inclusive workplaces. In New York\, for every $1.00 full-time working white males make\,  full-time working women make less. Asian women earn 83 cents\, White women: 81 cents\, Black women: 65 cents\, Latinas: 56 cents\, and Native American women: 62 cents. And\, NY moms earn 80 cents compared to all NY dads! It's time to dig deeper\, push for solutions\, and ensure that ALL Women in NY have Equal Pay!\n\nRSVP:\nadmin@theatrewomen.org\nNot in NYC? Here are three other ways to participate:\n\n\tJoin us online by tweeting at @PowHerNY and @LPTWomen on April 2nd between 1-2PM\n\tWear RED to symbolize how women are "in the red" with their pay!\n\n
URL:http://archive.theatrewomen.org/event/2019-equal-pay-day-rally/
ATTACH;FMTTYPE=image/jpeg:http://archive.theatrewomen.org/wp-content/uploads/2019/03/Equal-Pay.jpg
END:VEVENT
END:VCALENDAR